BEGIN:VCALENDAR
VERSION:2.0
PRODID:-//Flavour Fred - ECPv6.15.20//NONSGML v1.0//EN
CALSCALE:GREGORIAN
METHOD:PUBLISH
X-WR-CALNAME:Flavour Fred
X-ORIGINAL-URL:https://www.flavourfred.com
X-WR-CALDESC:Events for Flavour Fred
REFRESH-INTERVAL;VALUE=DURATION:PT1H
X-Robots-Tag:noindex
X-PUBLISHED-TTL:PT1H
BEGIN:VTIMEZONE
TZID:Europe/London
BEGIN:DAYLIGHT
TZOFFSETFROM:+0000
TZOFFSETTO:+0100
TZNAME:BST
DTSTART:20240331T010000
END:DAYLIGHT
BEGIN:STANDARD
TZOFFSETFROM:+0100
TZOFFSETTO:+0000
TZNAME:GMT
DTSTART:20241027T010000
END:STANDARD
BEGIN:DAYLIGHT
TZOFFSETFROM:+0000
TZOFFSETTO:+0100
TZNAME:BST
DTSTART:20250330T010000
END:DAYLIGHT
BEGIN:STANDARD
TZOFFSETFROM:+0100
TZOFFSETTO:+0000
TZNAME:GMT
DTSTART:20251026T010000
END:STANDARD
BEGIN:DAYLIGHT
TZOFFSETFROM:+0000
TZOFFSETTO:+0100
TZNAME:BST
DTSTART:20260329T010000
END:DAYLIGHT
BEGIN:STANDARD
TZOFFSETFROM:+0100
TZOFFSETTO:+0000
TZNAME:GMT
DTSTART:20261025T010000
END:STANDARD
END:VTIMEZONE
BEGIN:VEVENT
DTSTART;TZID=Europe/London:20251116T100000
DTEND;TZID=Europe/London:20251116T123000
DTSTAMP:20260420T141644
CREATED:20250829T092639Z
LAST-MODIFIED:20250911T175903Z
UID:17931-1763287200-1763296200@www.flavourfred.com
SUMMARY:Hampshire Downs\, near Alresford\, SO24 9TF
DESCRIPTION:A further confirmation email will be sent 3 days prior to the Walk where any special requests and dietary requirements can be discussed. \nJoin me at The Grange Hampshire.  A wonderful site with precise meeting location to be announced early 2025.  A great variety walks including hedgerows\, waterways and mixed woodlands.  Other facilities include bookable rooms/houses\, local vineyard\, private wild pizza events & wild food experiences.  Flavour-Led Walks\, Private Bookings & Staff Away Day Sessions. \n\nFLAVOUR LED WALK BOOKINGS\nThe exact location & meeting point of the walk will be provided on booking of the session. Nearest postcode is SO24 9TF. \n\nA further confirmation email will be sent 3 days prior to the Walk where any special requests and dietary requirements can be discussed. \n\nFlavour-Led Foraging walks walks are an introduction to foraging for flavour in order to teach on the rules and regulations\, identification techniques\, and the risks associated with wild food and drink. Throughout the walk we will identify seasonal ingredients and compare and contrast with their dangerous counterparts. During this I will be regularly visiting certain techniques of preservation and ways in which to create tasty wild ingredients to use at home along with a few tasters along the way. \nPlease view our Terms and Conditions
URL:https://www.flavourfred.com/event/hampshire-downs-near-alresford-so24-9tf/
LOCATION:The Grange Hampshire\, near Alresford\, SO24 9TF\, Hampshire Downs\, Alresford\, Hampshire\, SO24 9TF\, United Kingdom
CATEGORIES:Flavour Led Walks
ORGANIZER;CN="Flavour Fred":MAILTO:george@flavourfred.com
END:VEVENT
BEGIN:VEVENT
DTSTART;TZID=Europe/London:20251116T133000
DTEND;TZID=Europe/London:20251116T160000
DTSTAMP:20260420T141644
CREATED:20250929T062520Z
LAST-MODIFIED:20250929T062520Z
UID:19511-1763299800-1763308800@www.flavourfred.com
SUMMARY:Hampshire Downs\, near Alresford\, SO24 9TF
DESCRIPTION:A further confirmation email will be sent 3 days prior to the Walk where any special requests and dietary requirements can be discussed. \nJoin me at The Grange Hampshire.  A wonderful site with precise meeting location to be announced early 2025.  A great variety walks including hedgerows\, waterways and mixed woodlands.  Other facilities include bookable rooms/houses\, local vineyard\, private wild pizza events & wild food experiences.  Flavour-Led Walks\, Private Bookings & Staff Away Day Sessions. \n\nFLAVOUR LED WALK BOOKINGS\nThe exact location & meeting point of the walk will be provided on booking of the session. Nearest postcode is SO24 9TF. \n\nA further confirmation email will be sent 3 days prior to the Walk where any special requests and dietary requirements can be discussed. \n\nFlavour-Led Foraging walks walks are an introduction to foraging for flavour in order to teach on the rules and regulations\, identification techniques\, and the risks associated with wild food and drink. Throughout the walk we will identify seasonal ingredients and compare and contrast with their dangerous counterparts. During this I will be regularly visiting certain techniques of preservation and ways in which to create tasty wild ingredients to use at home along with a few tasters along the way. \nPlease view our Terms and Conditions
URL:https://www.flavourfred.com/event/hampshire-downs-near-alresford-so24-9tf-2/
LOCATION:The Grange Hampshire\, near Alresford\, SO24 9TF\, Hampshire Downs\, Alresford\, Hampshire\, SO24 9TF\, United Kingdom
CATEGORIES:Flavour Led Walks
ORGANIZER;CN="Flavour Fred":MAILTO:george@flavourfred.com
END:VEVENT
END:VCALENDAR