BEGIN:VCALENDAR
VERSION:2.0
PRODID:-//Flavour Fred - ECPv6.15.20//NONSGML v1.0//EN
CALSCALE:GREGORIAN
METHOD:PUBLISH
X-WR-CALNAME:Flavour Fred
X-ORIGINAL-URL:https://www.flavourfred.com
X-WR-CALDESC:Events for Flavour Fred
REFRESH-INTERVAL;VALUE=DURATION:PT1H
X-Robots-Tag:noindex
X-PUBLISHED-TTL:PT1H
BEGIN:VTIMEZONE
TZID:Europe/London
BEGIN:DAYLIGHT
TZOFFSETFROM:+0000
TZOFFSETTO:+0100
TZNAME:BST
DTSTART:20210328T010000
END:DAYLIGHT
BEGIN:STANDARD
TZOFFSETFROM:+0100
TZOFFSETTO:+0000
TZNAME:GMT
DTSTART:20211031T010000
END:STANDARD
BEGIN:DAYLIGHT
TZOFFSETFROM:+0000
TZOFFSETTO:+0100
TZNAME:BST
DTSTART:20220327T010000
END:DAYLIGHT
BEGIN:STANDARD
TZOFFSETFROM:+0100
TZOFFSETTO:+0000
TZNAME:GMT
DTSTART:20221030T010000
END:STANDARD
BEGIN:DAYLIGHT
TZOFFSETFROM:+0000
TZOFFSETTO:+0100
TZNAME:BST
DTSTART:20230326T010000
END:DAYLIGHT
BEGIN:STANDARD
TZOFFSETFROM:+0100
TZOFFSETTO:+0000
TZNAME:GMT
DTSTART:20231029T010000
END:STANDARD
BEGIN:DAYLIGHT
TZOFFSETFROM:+0000
TZOFFSETTO:+0100
TZNAME:BST
DTSTART:20240331T010000
END:DAYLIGHT
BEGIN:STANDARD
TZOFFSETFROM:+0100
TZOFFSETTO:+0000
TZNAME:GMT
DTSTART:20241027T010000
END:STANDARD
END:VTIMEZONE
BEGIN:VEVENT
DTSTART;TZID=Europe/London:20230819T140000
DTEND;TZID=Europe/London:20230819T163000
DTSTAMP:20260421T155405
CREATED:20230602T143954Z
LAST-MODIFIED:20230602T143954Z
UID:6306-1692453600-1692462600@www.flavourfred.com
SUMMARY:Hackney Marshes
DESCRIPTION:A further confirmation email will be sent 3 days prior to the Walk where any special requests and dietary requirements can be discussed. \nWe will meet at the Waterworks Centre Nature Reserve Car Park\, Lammas Road\, E10 7QB.  Further meeting point location provided on the confirmation email that follows. \nThese walks are an introduction to foraging for flavour in order to teach on the rules and regulations\, identification techniques\, and the risks associated with wild food and drink. Throughout the walk we will identify seasonal ingredients and compare and contrast with their dangerous counterparts. During this I will be regularly visiting certain techniques of preservation and ways in which to create tasty wild ingredients to use at home along with a few tasters. \nPlease view our Terms and Conditions
URL:https://www.flavourfred.com/event/hackney-marshes-11/
LOCATION:Hackney Marshes\, Hackney Marshes Centre Car Park\, London\, E9 5PF\, United Kingdom
CATEGORIES:Flavour Led Walks
ORGANIZER;CN="Flavour Fred":MAILTO:george@flavourfred.com
END:VEVENT
BEGIN:VEVENT
DTSTART;TZID=Europe/London:20230819T100000
DTEND;TZID=Europe/London:20230819T123000
DTSTAMP:20260421T155405
CREATED:20230809T101850Z
LAST-MODIFIED:20230809T101903Z
UID:6866-1692439200-1692448200@www.flavourfred.com
SUMMARY:Hackney Marshes
DESCRIPTION:A further confirmation email will be sent 3 days prior to the Walk where any special requests and dietary requirements can be discussed. \nWe will meet at the Waterworks Centre Nature Reserve Car Park\, Lammas Road\, E10 7QB.  Further meeting point location provided on the confirmation email that follows. \nThese walks are an introduction to foraging for flavour in order to teach on the rules and regulations\, identification techniques\, and the risks associated with wild food and drink. Throughout the walk we will identify seasonal ingredients and compare and contrast with their dangerous counterparts. During this I will be regularly visiting certain techniques of preservation and ways in which to create tasty wild ingredients to use at home along with a few tasters. \nPlease view our Terms and Conditions
URL:https://www.flavourfred.com/event/hackney-marshes-9/
LOCATION:Hackney Marshes\, Hackney Marshes Centre Car Park\, London\, E9 5PF\, United Kingdom
CATEGORIES:Flavour Led Walks
ORGANIZER;CN="Flavour Fred":MAILTO:george@flavourfred.com
END:VEVENT
BEGIN:VEVENT
DTSTART;TZID=Europe/London:20230805T140000
DTEND;TZID=Europe/London:20230805T163000
DTSTAMP:20260421T155405
CREATED:20230602T143759Z
LAST-MODIFIED:20230602T143759Z
UID:6303-1691244000-1691253000@www.flavourfred.com
SUMMARY:Hackney Marshes
DESCRIPTION:A further confirmation email will be sent 3 days prior to the Walk where any special requests and dietary requirements can be discussed. \nWe will meet at the Waterworks Centre Nature Reserve Car Park\, Lammas Road\, E10 7QB.  Further meeting point location provided on the confirmation email that follows. \nThese walks are an introduction to foraging for flavour in order to teach on the rules and regulations\, identification techniques\, and the risks associated with wild food and drink. Throughout the walk we will identify seasonal ingredients and compare and contrast with their dangerous counterparts. During this I will be regularly visiting certain techniques of preservation and ways in which to create tasty wild ingredients to use at home along with a few tasters. \nPlease view our Terms and Conditions
URL:https://www.flavourfred.com/event/hackney-marshes-10/
LOCATION:Hackney Marshes\, Hackney Marshes Centre Car Park\, London\, E9 5PF\, United Kingdom
CATEGORIES:Flavour Led Walks
ORGANIZER;CN="Flavour Fred":MAILTO:george@flavourfred.com
END:VEVENT
BEGIN:VEVENT
DTSTART;TZID=Europe/London:20230716T140000
DTEND;TZID=Europe/London:20230716T163000
DTSTAMP:20260421T155405
CREATED:20221104T162559Z
LAST-MODIFIED:20230506T162842Z
UID:4995-1689516000-1689525000@www.flavourfred.com
SUMMARY:Hackney Marshes
DESCRIPTION:A further confirmation email will be sent 3 days prior to the Walk where any special requests and dietary requirements can be discussed. \nWe will meet at the Waterworks Centre Nature Reserve Car Park\, Lammas Road\, E10 7QB.  Further meeting point location provided on confirmation email that follows. \nThese walks are an introduction to foraging for flavour in order to teach on the rules and regulations\, identification techniques\, and the risks associated with wild food and drink. Throughout the walk we will identify seasonal ingredients and compare and contrast with their dangerous counterparts. During this I will be regularly visiting certain techniques of preservation and ways in which to create tasty wild ingredients to use at home along with a few tasters. \nPlease view our Terms and Conditions
URL:https://www.flavourfred.com/event/hackney-marshes-3/
LOCATION:Hackney Marshes\, Hackney Marshes Centre Car Park\, London\, E9 5PF\, United Kingdom
CATEGORIES:Flavour Led Walks
ORGANIZER;CN="Flavour Fred":MAILTO:george@flavourfred.com
END:VEVENT
BEGIN:VEVENT
DTSTART;TZID=Europe/London:20230625T120000
DTEND;TZID=Europe/London:20230625T163000
DTSTAMP:20260421T155405
CREATED:20230506T181352Z
LAST-MODIFIED:20230506T181721Z
UID:6036-1687694400-1687710600@www.flavourfred.com
SUMMARY:Flavour-Led Foraging\, Pizzas & Cocktails from Hackney Marshes -> Flat Earth Pizzas
DESCRIPTION:A further confirmation email will be sent 3 days prior to the session where any special requests and dietary requirements can be discussed. \nFlat Earth Pizzas has supported me as a supplier since they opened at 288 Cambridge Heath Road. After the success of a fundraiser we have decided to run the same style event on Sunday 25th June 2023. \nWe will start with a Flavour Led Forage (snacks and tasters along the way) from Hackney Marshes all the way to Flat Earth Pizzas where we will enjoy a drink on arrival a selection of Flat Earth Pizzas with wild dips and some Flavour Fred cocktails. This ticketed event will start at 12:00noon meeting near the Waterworks Centre\, E10 7QB arriving at Flat Earth Pizzas for 3:15pm concluding by 4:30pm. Further meeting point location provided on confirmation email that follows. \nFlavour Fred’s Foraging Walks: These sessions are an introduction to foraging for flavour in order to teach on the rules and regulations\, identification techniques\, and the risks associated with wild food and drink. Throughout the walk we will identify seasonal ingredients and compare and contrast with their dangerous counterparts. During this I will be regularly visiting certain techniques of preservation and ways in which to create tasty wild ingredients to use at home along with a few tasters.\nTickets are £65pp\, limited to 16 people \nPlease view our Terms and Conditions
URL:https://www.flavourfred.com/event/flat-earth-pizzas-hackney-marshes-flat-earth-pizzas/
LOCATION:FLAT EARTH PIZZAS\, 288 Cambridge Heath Road\, London\, E2 9DA\, United Kingdom
CATEGORIES:Flat Earth Pizzas,Flavour Led Walks
ORGANIZER;CN="Flavour Fred":MAILTO:george@flavourfred.com
END:VEVENT
BEGIN:VEVENT
DTSTART;TZID=Europe/London:20230611T140000
DTEND;TZID=Europe/London:20230611T163000
DTSTAMP:20260421T155405
CREATED:20221104T162722Z
LAST-MODIFIED:20230314T164339Z
UID:4997-1686492000-1686501000@www.flavourfred.com
SUMMARY:Hackney Marshes
DESCRIPTION:A further confirmation email will be sent 3 days prior to the Walk where any special requests and dietary requirements can be discussed. \nWe will meet at the Waterworks Centre Nature Reserve Car Park\, Lammas Road\, E10 7QB.  Further meeting point location provided on the confirmation email that follows. \nThese walks are an introduction to foraging for flavour in order to teach on the rules and regulations\, identification techniques\, and the risks associated with wild food and drink. Throughout the walk we will identify seasonal ingredients and compare and contrast with their dangerous counterparts. During this I will be regularly visiting certain techniques of preservation and ways in which to create tasty wild ingredients to use at home along with a few tasters. \nPlease view our Terms and Conditions
URL:https://www.flavourfred.com/event/hackney-marshes-4/
LOCATION:Hackney Marshes\, Hackney Marshes Centre Car Park\, London\, E9 5PF\, United Kingdom
CATEGORIES:Flavour Led Walks
ORGANIZER;CN="Flavour Fred":MAILTO:george@flavourfred.com
END:VEVENT
BEGIN:VEVENT
DTSTART;TZID=Europe/London:20230514T140000
DTEND;TZID=Europe/London:20230514T163000
DTSTAMP:20260421T155405
CREATED:20221104T162910Z
LAST-MODIFIED:20221104T162910Z
UID:5000-1684072800-1684081800@www.flavourfred.com
SUMMARY:Hackney Marshes
DESCRIPTION:A further confirmation email will be sent 3 days prior to the Walk where any special requests and dietary requirements can be discussed. \nWe will meet at the Waterworks Centre Nature Reserve Car Park\, Lammas Road\, E10 7QB.  Further meeting point location provided on confirmation email that follows. \nThese walks are an introduction to foraging for flavour in order to teach on the rules and regulations\, identification techniques\, and the risks associated with wild food and drink. Throughout the walk we will identify seasonal ingredients and compare and contrast with their dangerous counterparts. During this I will be regularly visiting certain techniques of preservation and ways in which to create tasty wild ingredients to use at home along with a few tasters. \nPlease view our Terms and Conditions
URL:https://www.flavourfred.com/event/hackney-marshes-5/
LOCATION:Hackney Marshes\, Hackney Marshes Centre Car Park\, London\, E9 5PF\, United Kingdom
CATEGORIES:Flavour Led Walks
ORGANIZER;CN="Flavour Fred":MAILTO:george@flavourfred.com
END:VEVENT
BEGIN:VEVENT
DTSTART;TZID=Europe/London:20230514T100000
DTEND;TZID=Europe/London:20230514T123000
DTSTAMP:20260421T155405
CREATED:20230408T180513Z
LAST-MODIFIED:20230408T180513Z
UID:5836-1684058400-1684067400@www.flavourfred.com
SUMMARY:Hackney Marshes
DESCRIPTION:A further confirmation email will be sent 3 days prior to the Walk where any special requests and dietary requirements can be discussed. \nWe will meet at the Waterworks Centre Nature Reserve Car Park\, Lammas Road\, E10 7QB.  Further meeting point location provided on confirmation email that follows. \nThese walks are an introduction to foraging for flavour in order to teach on the rules and regulations\, identification techniques\, and the risks associated with wild food and drink. Throughout the walk we will identify seasonal ingredients and compare and contrast with their dangerous counterparts. During this I will be regularly visiting certain techniques of preservation and ways in which to create tasty wild ingredients to use at home along with a few tasters. \nPlease view our Terms and Conditions
URL:https://www.flavourfred.com/event/hackney-marshes-8/
LOCATION:Hackney Marshes\, Hackney Marshes Centre Car Park\, London\, E9 5PF\, United Kingdom
CATEGORIES:Flavour Led Walks
ORGANIZER;CN="Flavour Fred":MAILTO:george@flavourfred.com
END:VEVENT
BEGIN:VEVENT
DTSTART;TZID=Europe/London:20230409T140000
DTEND;TZID=Europe/London:20230409T163000
DTSTAMP:20260421T155405
CREATED:20221104T163024Z
LAST-MODIFIED:20230409T081848Z
UID:5003-1681048800-1681057800@www.flavourfred.com
SUMMARY:Hackney Marshes
DESCRIPTION:A further confirmation email will be sent 3 days prior to the Walk where any special requests and dietary requirements can be discussed. \nWe will meet at the Waterworks Centre Nature Reserve Car Park\, Lammas Road\, E10 7QB.  Further meeting point location provided on confirmation email that follows. \nThese walks are an introduction to foraging for flavour in order to teach on the rules and regulations\, identification techniques\, and the risks associated with wild food and drink. Throughout the walk we will identify seasonal ingredients and compare and contrast with their dangerous counterparts. During this I will be regularly visiting certain techniques of preservation and ways in which to create tasty wild ingredients to use at home along with a few tasters. \nPlease view our Terms and Conditions
URL:https://www.flavourfred.com/event/hackney-marshes-6/
LOCATION:Hackney Marshes\, Hackney Marshes Centre Car Park\, London\, E9 5PF\, United Kingdom
CATEGORIES:Flavour Led Walks
ORGANIZER;CN="Flavour Fred":MAILTO:george@flavourfred.com
END:VEVENT
BEGIN:VEVENT
DTSTART;TZID=Europe/London:20230402T100000
DTEND;TZID=Europe/London:20230402T133000
DTSTAMP:20260421T155405
CREATED:20230314T173409Z
LAST-MODIFIED:20230320T092240Z
UID:5674-1680429600-1680442200@www.flavourfred.com
SUMMARY:Flat Earth Pizzas Fundraiser - Hackney Marshes -> Flat Earth Pizza's
DESCRIPTION:A further confirmation email will be sent 3 days prior to the session where any special requests and dietary requirements can be discussed. \nFlat Earth Pizzas has supported me as a supplier since they opened at 288 Cambridge Heath Road. Sadly on the 7th of March their windows were smashed in by a hammer wielding vandal overnight. In an effort to raise some money to help with the new windows and the installation of electric shutters we are working together on an extra special event on Sunday 2nd of April. \nWe would love it if you can show some support and join us for a Flavour Led Forage (snacks and tasters along the way) from Hackney Marshes all the way to Flat Earth Pizzas where we will enjoy Wild Pizzas with some Flavour Fred cocktails all included in the ticket price. This ticketed event will start at 10:00am meeting near the Waterworks Centre\, E10 7QB arriving at Flat Earth Pizzas for 12:15pm concluding by 1:30pm. Further meeting point location provided on confirmation email that follows. \nFlavour Fred’s Foraging Walks: These sessions are an introduction to foraging for flavour in order to teach on the rules and regulations\, identification techniques\, and the risks associated with wild food and drink. Throughout the walk we will identify seasonal ingredients and compare and contrast with their dangerous counterparts. During this I will be regularly visiting certain techniques of preservation and ways in which to create tasty wild ingredients to use at home along with a few tasters. \nPlease view our Terms and Conditions
URL:https://www.flavourfred.com/event/flat-earth-pizza-fundraiser-hackney-marshes-flat-earth-pizzas/
LOCATION:FLAT EARTH PIZZAS\, 288 Cambridge Heath Road\, London\, E2 9DA\, United Kingdom
CATEGORIES:Flat Earth Pizzas,Flavour Led Walks
ORGANIZER;CN="Flavour Fred":MAILTO:george@flavourfred.com
END:VEVENT
BEGIN:VEVENT
DTSTART;TZID=Europe/London:20230312T140000
DTEND;TZID=Europe/London:20230312T163000
DTSTAMP:20260421T155405
CREATED:20221104T163154Z
LAST-MODIFIED:20221104T163202Z
UID:5006-1678629600-1678638600@www.flavourfred.com
SUMMARY:Hackney Marshes
DESCRIPTION:A further confirmation email will be sent 3 days prior to the Walk where any special requests and dietary requirements can be discussed. \nWe will meet at the Waterworks Centre Nature Reserve Car Park\, Lammas Road\, E10 7QB.  Further meeting point location provided on confirmation email that follows. \nThese walks are an introduction to foraging for flavour in order to teach on the rules and regulations\, identification techniques\, and the risks associated with wild food and drink. Throughout the walk we will identify seasonal ingredients and compare and contrast with their dangerous counterparts. During this I will be regularly visiting certain techniques of preservation and ways in which to create tasty wild ingredients to use at home along with a few tasters. \nPlease view our Terms and Conditions
URL:https://www.flavourfred.com/event/hackney-marshes-7/
LOCATION:Hackney Marshes\, Hackney Marshes Centre Car Park\, London\, E9 5PF\, United Kingdom
CATEGORIES:Flavour Led Walks
ORGANIZER;CN="Flavour Fred":MAILTO:george@flavourfred.com
END:VEVENT
BEGIN:VEVENT
DTSTART;TZID=Europe/London:20221030T140000
DTEND;TZID=Europe/London:20221030T163000
DTSTAMP:20260421T155405
CREATED:20221023T053701Z
LAST-MODIFIED:20221023T053701Z
UID:4817-1667138400-1667147400@www.flavourfred.com
SUMMARY:Hackney Marshes
DESCRIPTION:A further confirmation email will be sent 3 days prior to the Walk where any special requests and dietary requirements can be discussed. \nWe will meet at the Waterworks Centre Nature Reserve Car Park\, Lammas Road\, E10 7QB.  Further meeting point location provided on confirmation email that follows. \nThese walks are an introduction to foraging for flavour in order to teach on the rules and regulations\, identification techniques\, and the risks associated with wild food and drink. Throughout the walk we will identify seasonal ingredients and compare and contrast with their dangerous counterparts. During this I will be regularly visiting certain techniques of preservation and ways in which to create tasty wild ingredients to use at home along with a few tasters. \nPlease view our Terms and Conditions
URL:https://www.flavourfred.com/event/hackney-marshes-2/
LOCATION:Hackney Marshes\, Hackney Marshes Centre Car Park\, London\, E9 5PF\, United Kingdom
CATEGORIES:Flavour Led Walks
ORGANIZER;CN="Flavour Fred":MAILTO:george@flavourfred.com
END:VEVENT
BEGIN:VEVENT
DTSTART;TZID=Europe/London:20221023T140000
DTEND;TZID=Europe/London:20221023T163000
DTSTAMP:20260421T155405
CREATED:20220911T063154Z
LAST-MODIFIED:20220911T063409Z
UID:4550-1666533600-1666542600@www.flavourfred.com
SUMMARY:Hackney Marshes
DESCRIPTION:A further confirmation email will be sent 3 days prior to the Walk where any special requests and dietary requirements can be discussed. \nWe will meet at the Waterworks Centre Nature Reserve Car Park\, Lammas Road\, E10 7QB.  Further meeting point location provided on confirmation email that follows. \nThese walks are an introduction to foraging for flavour in order to teach on the rules and regulations\, identification techniques\, and the risks associated with wild food and drink. Throughout the walk we will identify seasonal ingredients and compare and contrast with their dangerous counterparts. During this I will be regularly visiting certain techniques of preservation and ways in which to create tasty wild ingredients to use at home along with a few tasters. \nPlease view our Terms and Conditions
URL:https://www.flavourfred.com/event/hackney-marshes/
LOCATION:Hackney Marshes\, Hackney Marshes Centre Car Park\, London\, E9 5PF\, United Kingdom
CATEGORIES:Flavour Led Walks
ORGANIZER;CN="Flavour Fred":MAILTO:george@flavourfred.com
END:VEVENT
END:VCALENDAR