BEGIN:VCALENDAR
VERSION:2.0
PRODID:-//Flavour Fred - ECPv6.15.20//NONSGML v1.0//EN
CALSCALE:GREGORIAN
METHOD:PUBLISH
X-WR-CALNAME:Flavour Fred
X-ORIGINAL-URL:https://www.flavourfred.com
X-WR-CALDESC:Events for Flavour Fred
REFRESH-INTERVAL;VALUE=DURATION:PT1H
X-Robots-Tag:noindex
X-PUBLISHED-TTL:PT1H
BEGIN:VTIMEZONE
TZID:Europe/London
BEGIN:DAYLIGHT
TZOFFSETFROM:+0000
TZOFFSETTO:+0100
TZNAME:BST
DTSTART:20240331T010000
END:DAYLIGHT
BEGIN:STANDARD
TZOFFSETFROM:+0100
TZOFFSETTO:+0000
TZNAME:GMT
DTSTART:20241027T010000
END:STANDARD
BEGIN:DAYLIGHT
TZOFFSETFROM:+0000
TZOFFSETTO:+0100
TZNAME:BST
DTSTART:20250330T010000
END:DAYLIGHT
BEGIN:STANDARD
TZOFFSETFROM:+0100
TZOFFSETTO:+0000
TZNAME:GMT
DTSTART:20251026T010000
END:STANDARD
BEGIN:DAYLIGHT
TZOFFSETFROM:+0000
TZOFFSETTO:+0100
TZNAME:BST
DTSTART:20260329T010000
END:DAYLIGHT
BEGIN:STANDARD
TZOFFSETFROM:+0100
TZOFFSETTO:+0000
TZNAME:GMT
DTSTART:20261025T010000
END:STANDARD
END:VTIMEZONE
BEGIN:VEVENT
DTSTART;TZID=Europe/London:20251012T100000
DTEND;TZID=Europe/London:20251012T123000
DTSTAMP:20260421T221518
CREATED:20241015T084205Z
LAST-MODIFIED:20251009T102729Z
UID:9882-1760263200-1760272200@www.flavourfred.com
SUMMARY:Hackney Marshes Walk (fungi focused)
DESCRIPTION:A further confirmation email will be sent 3 days prior to the Walk where any special requests and dietary requirements can be discussed. \nMeeting at the Hackney Marshes Centre.  Further details will be provided on booking. \nThese walks are my intermediate introductory sessions when to foraging for flavour in order to teach on the rules and regulations\, identification techniques\, and the risks associated with wild food and drink in a little more depth than my introductory sessions. Throughout the walk we will identify seasonal ingredients and compare and contrast with their dangerous counterparts and take a deep dive into my 3 best applications for the most interesting seasonal items. As usual tasters and samples along the way. \nPlease view our Terms and Conditions \n 
URL:https://www.flavourfred.com/event/hampstead-heath-walk-fungi-focused-6/
LOCATION:Hackney Marshes\, Hackney Marshes Centre Car Park\, London\, E9 5PF\, United Kingdom
CATEGORIES:Flavour Led Walks
ORGANIZER;CN="Flavour Fred":MAILTO:george@flavourfred.com
END:VEVENT
BEGIN:VEVENT
DTSTART;TZID=Europe/London:20251012T140000
DTEND;TZID=Europe/London:20251012T163000
DTSTAMP:20260421T221518
CREATED:20250714T160043Z
LAST-MODIFIED:20250919T095311Z
UID:17631-1760277600-1760286600@www.flavourfred.com
SUMMARY:Hackney Marshes Walk (fungi focused)
DESCRIPTION:A further confirmation email will be sent 3 days prior to the Walk where any special requests and dietary requirements can be discussed. \nMeeting at the Hackney Marshes Centre.  Further details will be provided on booking. \nThese walks are an introduction to foraging for flavour in order to teach on the rules and regulations\, identification techniques\, and the risks associated with wild food and drink. Throughout the walk we will identify seasonal ingredients and compare and contrast with their dangerous counterparts. During this I will be regularly visiting certain techniques of preservation and ways in which to create tasty wild ingredients to use at home along with a few tasters. \nPlease view our Terms and Conditions
URL:https://www.flavourfred.com/event/hampstead-heath-walk-fungi-focused-13/
LOCATION:Hackney Marshes\, Hackney Marshes Centre Car Park\, London\, E9 5PF\, United Kingdom
CATEGORIES:Flavour Led Walks
ORGANIZER;CN="Flavour Fred":MAILTO:george@flavourfred.com
END:VEVENT
END:VCALENDAR